BEGIN:VCALENDAR
VERSION:2.0
PRODID:-//wowchildrensmuseum.org//NONSGML kigkonsult.se iCalcreator 2.30.10
 //
CALSCALE:GREGORIAN
METHOD:PUBLISH
UID:7469c2fb-6b2a-4751-a726-3e070cb1904d
X-WR-CALDESC:Join us for a special interactive musical performance from vio
 linist Michael Pordesimo and students from Center for Musical Arts!\n\nInc
 luded with Museum Admission or Membership.
X-WR-RELCALID:bb602b3d647ca2035309a3179e9a4fd4
X-WR-TIMEZONE:America/Denver
BEGIN:VTIMEZONE
TZID:America/Denver
BEGIN:STANDARD
TZNAME:MST
DTSTART:20231105T020000
TZOFFSETFROM:-0600
TZOFFSETTO:-0700
RDATE:20241103T020000
END:STANDARD
BEGIN:DAYLIGHT
TZNAME:MDT
DTSTART:20230312T020000
TZOFFSETFROM:-0700
TZOFFSETTO:-0600
RDATE:20240310T020000
RDATE:20250309T020000
END:DAYLIGHT
END:VTIMEZONE
BEGIN:VEVENT
UID:a6b7c743-e230-4024-ba4f-2bbee8bbe0ae
DTSTAMP:20260421T090442Z
DESCRIPTION:Join us for a special interactive musical performance from viol
 inist Michael Pordesimo and students from Center for Musical Arts!\n\nIncl
 uded with Museum Admission or Membership.
DTSTART;TZID=America/Denver:20231122T130000
DTEND;TZID=America/Denver:20231122T133000
LOCATION:
SUMMARY:Musical Performance by Center for Musical Arts & Dana V Music
END:VEVENT
END:VCALENDAR
