BEGIN:VCALENDAR
VERSION:2.0
PRODID:-//wowchildrensmuseum.org//NONSGML kigkonsult.se iCalcreator 2.30.10
 //
CALSCALE:GREGORIAN
METHOD:PUBLISH
UID:b1805d79-a6b2-4a0f-a316-c1982141e8e5
X-WR-CALDESC:Build with boxes! Create with cardboard! Drop in this Thanksgi
 ving break and see what you can construct! The possibilities are endless.
 \n\nIncluded with Museum Admission or Membership.
X-WR-RELCALID:82179fe46d98527f054f33c85f488597
X-WR-TIMEZONE:America/Denver
BEGIN:VTIMEZONE
TZID:America/Denver
BEGIN:STANDARD
TZNAME:MST
DTSTART:20231105T020000
TZOFFSETFROM:-0600
TZOFFSETTO:-0700
RDATE:20241103T020000
END:STANDARD
BEGIN:DAYLIGHT
TZNAME:MDT
DTSTART:20230312T020000
TZOFFSETFROM:-0700
TZOFFSETTO:-0600
RDATE:20240310T020000
RDATE:20250309T020000
END:DAYLIGHT
END:VTIMEZONE
BEGIN:VEVENT
UID:fd81c7e2-9616-4923-82e8-590d5b6769ee
DTSTAMP:20260421T085158Z
DESCRIPTION:Build with boxes! Create with cardboard! Drop in this Thanksgiv
 ing break and see what you can construct! The possibilities are endless.\n
 \nIncluded with Museum Admission or Membership.
DTSTART;TZID=America/Denver:20231120T100000
DTEND;TZID=America/Denver:20231120T120000
LOCATION:
SUMMARY:Box Day!
END:VEVENT
END:VCALENDAR
