BEGIN:VCALENDAR
VERSION:2.0
PRODID:-//wowchildrensmuseum.org//NONSGML kigkonsult.se iCalcreator 2.30.10
 //
CALSCALE:GREGORIAN
METHOD:PUBLISH
UID:ffa2e9ee-5e63-46bd-ad45-5bd5f0426325
X-WR-CALDESC:Come to WOW! after school and take part in extra awesome STEAM
  activities\, brought to you by WOW! team member\, Max! \n\nSTEAM to the M
 ax! is a recurring program on Thursday afternoons and is recommended for g
 rades K-3. This program is included with Museum Admission or Membership.
X-WR-RELCALID:985aa7dbc720afcc4bf936086ff97eeb
X-WR-TIMEZONE:America/Denver
BEGIN:VTIMEZONE
TZID:America/Denver
BEGIN:STANDARD
TZNAME:MST
DTSTART:20281105T020000
TZOFFSETFROM:-0600
TZOFFSETTO:-0700
RDATE:20291104T020000
END:STANDARD
BEGIN:DAYLIGHT
TZNAME:MDT
DTSTART:20280312T020000
TZOFFSETFROM:-0700
TZOFFSETTO:-0600
RDATE:20290311T020000
RDATE:20300310T020000
END:DAYLIGHT
END:VTIMEZONE
BEGIN:VEVENT
UID:7616328b-4002-4062-b9a0-e3f50b36d29e
DTSTAMP:20260425T153457Z
DESCRIPTION:Come to WOW! after school and take part in extra awesome STEAM 
 activities\, brought to you by WOW! team member\, Max! \n\nSTEAM to the Ma
 x! is a recurring program on Thursday afternoons and is recommended for gr
 ades K-3. This program is included with Museum Admission or Membership.
DTSTART;TZID=America/Denver:20290215T153000
DTEND;TZID=America/Denver:20290215T161500
LOCATION:
SUMMARY:STEAM to the Max!
END:VEVENT
END:VCALENDAR
