BEGIN:VCALENDAR
VERSION:2.0
PRODID:-//wowchildrensmuseum.org//NONSGML kigkonsult.se iCalcreator 2.30.10
 //
CALSCALE:GREGORIAN
METHOD:PUBLISH
UID:58bc1cea-fc11-4f97-b08f-e0ebbee8e85a
X-WR-CALDESC:Join us a special all ages story time! Included with Museum Ad
 mission or Membership.\n\nAcompáñanos para una sesión especial de cuentacu
 entos para todas las edades. \nIncluido con entrada al museo o con membres
 ía.
X-WR-RELCALID:08c622b1057c958a9b1fac0362bd955a
X-WR-TIMEZONE:America/Denver
BEGIN:VTIMEZONE
TZID:America/Denver
BEGIN:STANDARD
TZNAME:MST
DTSTART:20251102T020000
TZOFFSETFROM:-0600
TZOFFSETTO:-0700
RDATE:20261101T020000
END:STANDARD
BEGIN:DAYLIGHT
TZNAME:MDT
DTSTART:20250309T020000
TZOFFSETFROM:-0700
TZOFFSETTO:-0600
RDATE:20260308T020000
RDATE:20270314T020000
END:DAYLIGHT
END:VTIMEZONE
BEGIN:VEVENT
UID:518d9c6f-0e75-4d8c-9bf1-739172ecabe9
DTSTAMP:20260421T085833Z
DESCRIPTION:Join us a special all ages story time! Included with Museum Adm
 ission or Membership.\n\nAcompáñanos para una sesión especial de cuentacue
 ntos para todas las edades. \nIncluido con entrada al museo o con membresí
 a.
DTSTART;TZID=America/Denver:20260219T110000
DTEND;TZID=America/Denver:20260219T113000
LOCATION:
SUMMARY:Bilingual Storytime
END:VEVENT
END:VCALENDAR
