BEGIN:VCALENDAR
VERSION:2.0
PRODID:-//wowchildrensmuseum.org//NONSGML kigkonsult.se iCalcreator 2.30.10
 //
CALSCALE:GREGORIAN
METHOD:PUBLISH
UID:7b58c6fb-26de-4d1a-986c-514601f7c848
X-WR-CALDESC:In preparation for our WOW! on Tap event\, we will be closing 
 at 3:00pm today. Thank you for understanding!
X-WR-RELCALID:f77072fe107c8065d4565f6cb2eab590
X-WR-TIMEZONE:America/Denver
BEGIN:VTIMEZONE
TZID:America/Denver
BEGIN:STANDARD
TZNAME:MST
DTSTART:20231105T020000
TZOFFSETFROM:-0600
TZOFFSETTO:-0700
RDATE:20241103T020000
RDATE:20251102T020000
END:STANDARD
BEGIN:DAYLIGHT
TZNAME:MDT
DTSTART:20240310T020000
TZOFFSETFROM:-0700
TZOFFSETTO:-0600
RDATE:20250309T020000
RDATE:20260308T020000
END:DAYLIGHT
END:VTIMEZONE
BEGIN:VEVENT
UID:d4d17f4d-aed3-42ae-af9c-929685ee3eda
DTSTAMP:20260423T024039Z
DESCRIPTION:In preparation for our WOW! on Tap event\, we will be closing a
 t 3:00pm today. Thank you for understanding!
DTSTART;TZID=America/Denver:20240920T040000
DTEND;TZID=America/Denver:20240920T040001
LOCATION:
SUMMARY:Museum Closing at 3:00pm
END:VEVENT
END:VCALENDAR
