BEGIN:VCALENDAR
VERSION:2.0
PRODID:-//wowchildrensmuseum.org//NONSGML kigkonsult.se iCalcreator 2.30.10
 //
CALSCALE:GREGORIAN
METHOD:PUBLISH
UID:e4301d61-0c9b-4175-9adb-aefcf8bae3f9
X-WR-CALDESC:Once upon a time... a group of student actors from BackStory T
 heatre travelled to the WOW! Children's Museum to perform a fairytale for 
 young audiences (recommended ages: preschool and early elementary children
 ). This 30 minute play is especially designed to be an interactive experie
 nce that encourages children to participate in the storytelling themselves
 ! Afterwards\, children will have a chance to meet the characters and get 
 autographs and pictures...and live happily ever after!\n\nIncluded with Mu
 seum Admission or Membership.\n
X-WR-RELCALID:105cd1d3bf6bab65cfd2bf6426f03667
X-WR-TIMEZONE:America/Denver
BEGIN:VTIMEZONE
TZID:America/Denver
BEGIN:STANDARD
TZNAME:MST
DTSTART:20231105T020000
TZOFFSETFROM:-0600
TZOFFSETTO:-0700
RDATE:20241103T020000
RDATE:20251102T020000
END:STANDARD
BEGIN:DAYLIGHT
TZNAME:MDT
DTSTART:20240310T020000
TZOFFSETFROM:-0700
TZOFFSETTO:-0600
RDATE:20250309T020000
END:DAYLIGHT
END:VTIMEZONE
BEGIN:VEVENT
UID:a05fb2ba-5515-4aca-9e54-2c3836b29ca0
DTSTAMP:20260423T024902Z
DESCRIPTION:Once upon a time... a group of student actors from BackStory Th
 eatre travelled to the WOW! Children's Museum to perform a fairytale for y
 oung audiences (recommended ages: preschool and early elementary children)
 . This 30 minute play is especially designed to be an interactive experien
 ce that encourages children to participate in the storytelling themselves!
  Afterwards\, children will have a chance to meet the characters and get a
 utographs and pictures...and live happily ever after!\n\nIncluded with Mus
 eum Admission or Membership.\n
DTSTART;TZID=America/Denver:20240905T153000
DTEND;TZID=America/Denver:20240905T160000
LOCATION:
SUMMARY:Backstory Theater @ WOW!
END:VEVENT
END:VCALENDAR
