BEGIN:VCALENDAR
VERSION:2.0
PRODID:-//wowchildrensmuseum.org//NONSGML kigkonsult.se iCalcreator 2.30.10
 //
CALSCALE:GREGORIAN
METHOD:PUBLISH
UID:cfd4d84b-9738-4178-8477-e046555a0756
X-WR-CALDESC:Today\, we will be open 9:00am-3:00pm. Masks will be required 
 for ages 3+ in support of our immunocompromised families and guests!
X-WR-RELCALID:67c047cbad6e63917443bfbb8c48a941
X-WR-TIMEZONE:America/Denver
BEGIN:VTIMEZONE
TZID:America/Denver
BEGIN:STANDARD
TZNAME:MST
DTSTART:20231105T020000
TZOFFSETFROM:-0600
TZOFFSETTO:-0700
RDATE:20241103T020000
RDATE:20251102T020000
END:STANDARD
BEGIN:DAYLIGHT
TZNAME:MDT
DTSTART:20240310T020000
TZOFFSETFROM:-0700
TZOFFSETTO:-0600
RDATE:20250309T020000
END:DAYLIGHT
END:VTIMEZONE
BEGIN:VEVENT
UID:42ed26c1-ac3b-4e33-b613-0eadf2714104
DTSTAMP:20260422T232823Z
DESCRIPTION:Today\, we will be open 9:00am-3:00pm. Masks will be required f
 or ages 3+ in support of our immunocompromised families and guests!
DTSTART;TZID=America/Denver:20240701T090000
DTEND;TZID=America/Denver:20240701T150000
LOCATION:
SUMMARY:Masked Monday
END:VEVENT
END:VCALENDAR
