BEGIN:VCALENDAR
VERSION:2.0
PRODID:-//wowchildrensmuseum.org//NONSGML kigkonsult.se iCalcreator 2.30.10
 //
CALSCALE:GREGORIAN
METHOD:PUBLISH
UID:9f4b32a8-b326-4cfe-8905-376b601c38ac
X-WR-CALDESC:Parents and caregivers! Stop by our Snack Area for a free cup 
 of coffee or tea. We love getting to know our visitors!\n\nIncluded with M
 useum Admission or Membership.
X-WR-RELCALID:ebdeb8485c3a8fc3e45c3ef0b68db06d
X-WR-TIMEZONE:America/Denver
BEGIN:VTIMEZONE
TZID:America/Denver
BEGIN:STANDARD
TZNAME:MST
DTSTART:20231105T020000
TZOFFSETFROM:-0600
TZOFFSETTO:-0700
RDATE:20241103T020000
RDATE:20251102T020000
END:STANDARD
BEGIN:DAYLIGHT
TZNAME:MDT
DTSTART:20240310T020000
TZOFFSETFROM:-0700
TZOFFSETTO:-0600
RDATE:20250309T020000
END:DAYLIGHT
END:VTIMEZONE
BEGIN:VEVENT
UID:331f19b8-d19e-4002-a20b-8233711c6b3d
DTSTAMP:20260422T215301Z
DESCRIPTION:Parents and caregivers! Stop by our Snack Area for a free cup o
 f coffee or tea. We love getting to know our visitors!\n\nIncluded with Mu
 seum Admission or Membership.
DTSTART;TZID=America/Denver:20240607T093000
DTEND;TZID=America/Denver:20240607T103000
LOCATION:
SUMMARY:Coffee & Caregivers
END:VEVENT
END:VCALENDAR
