BEGIN:VCALENDAR
VERSION:2.0
PRODID:-//wowchildrensmuseum.org//NONSGML kigkonsult.se iCalcreator 2.30.10
 //
CALSCALE:GREGORIAN
METHOD:PUBLISH
UID:65ebcb4a-840a-4fb4-a5c7-e4757fb3504b
X-WR-CALDESC:Ring in the Year of the Dragon with a very special Lion Dance 
 performance by the Shaolin Hung Mei Kung Fu Association.\n\nIncluded with 
 Museum Admission or Membership.
X-WR-RELCALID:740da3276acec25d3260d552f906c803
X-WR-TIMEZONE:America/Denver
BEGIN:VTIMEZONE
TZID:America/Denver
BEGIN:STANDARD
TZNAME:MST
DTSTART:20231105T020000
TZOFFSETFROM:-0600
TZOFFSETTO:-0700
RDATE:20241103T020000
END:STANDARD
BEGIN:DAYLIGHT
TZNAME:MDT
DTSTART:20230312T020000
TZOFFSETFROM:-0700
TZOFFSETTO:-0600
RDATE:20240310T020000
RDATE:20250309T020000
END:DAYLIGHT
END:VTIMEZONE
BEGIN:VEVENT
UID:2db404d1-23cc-44eb-9b67-7d64ad085a07
DTSTAMP:20260422T234215Z
DESCRIPTION:Ring in the Year of the Dragon with a very special Lion Dance p
 erformance by the Shaolin Hung Mei Kung Fu Association.\n\nIncluded with M
 useum Admission or Membership.
DTSTART;TZID=America/Denver:20240219T110000
DTEND;TZID=America/Denver:20240219T113000
LOCATION:
SUMMARY:Lunar New Year Lion Dance
END:VEVENT
END:VCALENDAR
