BEGIN:VCALENDAR
VERSION:2.0
PRODID:-//wowchildrensmuseum.org//NONSGML kigkonsult.se iCalcreator 2.30.10
 //
CALSCALE:GREGORIAN
METHOD:PUBLISH
UID:fcb58008-10be-46fd-96bd-38964800cb44
X-WR-CALDESC:Ring in the Year of the Dragon with a very special Lion Dance 
 performance by the Shaolin Hung Mei Kung Fu Association.\n\nIncluded with 
 Museum Admission or Membership.
X-WR-RELCALID:632ec5738e9b9dc8287e8f9433824ec4
X-WR-TIMEZONE:America/Denver
BEGIN:VTIMEZONE
TZID:America/Denver
BEGIN:STANDARD
TZNAME:MST
DTSTART:20231105T020000
TZOFFSETFROM:-0600
TZOFFSETTO:-0700
RDATE:20241103T020000
END:STANDARD
BEGIN:DAYLIGHT
TZNAME:MDT
DTSTART:20230312T020000
TZOFFSETFROM:-0700
TZOFFSETTO:-0600
RDATE:20240310T020000
RDATE:20250309T020000
END:DAYLIGHT
END:VTIMEZONE
BEGIN:VEVENT
UID:5efb2c99-a743-43a5-9353-9bab99cc3fa2
DTSTAMP:20260422T215852Z
DESCRIPTION:Ring in the Year of the Dragon with a very special Lion Dance p
 erformance by the Shaolin Hung Mei Kung Fu Association.\n\nIncluded with M
 useum Admission or Membership.
DTSTART;TZID=America/Denver:20240219T100000
DTEND;TZID=America/Denver:20240219T103000
LOCATION:
SUMMARY:Lunar New Year Lion Dance
END:VEVENT
END:VCALENDAR
