BEGIN:VCALENDAR
VERSION:2.0
PRODID:-//wowchildrensmuseum.org//NONSGML kigkonsult.se iCalcreator 2.30.10
 //
CALSCALE:GREGORIAN
METHOD:PUBLISH
UID:3e9eae73-a4e7-455f-ad66-3fdc1e4ba9ba
X-WR-CALDESC:Join us for a special Valentine's Day Party for ages 0-3! Brin
 g your baby for a date night with family-friendly crafts\, a photo station
 \, activities designed for our Littlest Learners\, door prizes\, and more!
  \n\n$25 Family ticket includes admission for caregivers and children ages
  0-3 years.\n\nAll ticket sales are final. Tickets are transferable but ar
 e not refundable.
X-WR-RELCALID:fa7ed56149b5c53bb792dd8b08e8bb66
X-WR-TIMEZONE:America/Denver
BEGIN:VTIMEZONE
TZID:America/Denver
BEGIN:STANDARD
TZNAME:MST
DTSTART:20231105T020000
TZOFFSETFROM:-0600
TZOFFSETTO:-0700
RDATE:20241103T020000
END:STANDARD
BEGIN:DAYLIGHT
TZNAME:MDT
DTSTART:20230312T020000
TZOFFSETFROM:-0700
TZOFFSETTO:-0600
RDATE:20240310T020000
RDATE:20250309T020000
END:DAYLIGHT
END:VTIMEZONE
BEGIN:VEVENT
UID:5532429b-8015-4475-8a7c-4ae3c800d4d0
DTSTAMP:20260422T234703Z
DESCRIPTION:Join us for a special Valentine's Day Party for ages 0-3! Bring
  your baby for a date night with family-friendly crafts\, a photo station\
 , activities designed for our Littlest Learners\, door prizes\, and more! 
 \n\n$25 Family ticket includes admission for caregivers and children ages 
 0-3 years.\n\nAll ticket sales are final. Tickets are transferable but are
  not refundable.
DTSTART;TZID=America/Denver:20240210T040000
DTEND;TZID=America/Denver:20240210T040001
LOCATION:110 N Harrison Ave\, Lafayette\, CO 80026 US
SUMMARY:'Be My Baby' Valentine's Party ($)
END:VEVENT
END:VCALENDAR
