BEGIN:VCALENDAR
VERSION:2.0
PRODID:-//wowchildrensmuseum.org//NONSGML kigkonsult.se iCalcreator 2.30.10
 //
CALSCALE:GREGORIAN
METHOD:PUBLISH
UID:338e42c4-b6e8-4734-9b38-3df35f5dc96e
X-WR-CALDESC:Celebrating our 80026 small business community on 2/6! We will
  be offering $26 off Family Memberships\, Grandparent Memberships\, and Ch
 ampions of Play Memberships TODAY ONLY! Purchase online using code 'LafaYe
 ti'
X-WR-RELCALID:3f8f5d611ebe2dc38b59a5c029bae9c9
X-WR-TIMEZONE:America/Denver
BEGIN:VTIMEZONE
TZID:America/Denver
BEGIN:STANDARD
TZNAME:MST
DTSTART:20231105T020000
TZOFFSETFROM:-0600
TZOFFSETTO:-0700
RDATE:20241103T020000
END:STANDARD
BEGIN:DAYLIGHT
TZNAME:MDT
DTSTART:20230312T020000
TZOFFSETFROM:-0700
TZOFFSETTO:-0600
RDATE:20240310T020000
RDATE:20250309T020000
END:DAYLIGHT
END:VTIMEZONE
BEGIN:VEVENT
UID:25691532-e17f-474d-844d-7a2a45f30c2e
DTSTAMP:20260422T215354Z
DESCRIPTION:Celebrating our 80026 small business community on 2/6! We will 
 be offering $26 off Family Memberships\, Grandparent Memberships\, and Cha
 mpions of Play Memberships TODAY ONLY! Purchase online using code 'LafaYet
 i'
DTSTART;TZID=America/Denver:20240206T090000
DTEND;TZID=America/Denver:20240206T170000
LOCATION:
SUMMARY:LafaYeti Day
END:VEVENT
END:VCALENDAR
