BEGIN:VCALENDAR
VERSION:2.0
PRODID:-//wowchildrensmuseum.org//NONSGML kigkonsult.se iCalcreator 2.30.10
 //
CALSCALE:GREGORIAN
METHOD:PUBLISH
UID:1cff6939-4e91-4165-af98-48268a7b8f1d
X-WR-CALDESC:Museum closed for the Thanksgiving holiday.
X-WR-RELCALID:8bd8f14297031a6e0d3c3c6410406107
X-WR-TIMEZONE:America/Denver
BEGIN:VTIMEZONE
TZID:America/Denver
BEGIN:STANDARD
TZNAME:MST
DTSTART:20231105T020000
TZOFFSETFROM:-0600
TZOFFSETTO:-0700
RDATE:20241103T020000
END:STANDARD
BEGIN:DAYLIGHT
TZNAME:MDT
DTSTART:20230312T020000
TZOFFSETFROM:-0700
TZOFFSETTO:-0600
RDATE:20240310T020000
RDATE:20250309T020000
END:DAYLIGHT
END:VTIMEZONE
BEGIN:VEVENT
UID:b926530d-d5e0-4992-8b15-ec217a16e718
DTSTAMP:20260423T024237Z
DESCRIPTION:Museum closed for the Thanksgiving holiday.
DTSTART;TZID=America/Denver:20231123T040000
DTEND;TZID=America/Denver:20231123T040001
LOCATION:
SUMMARY:Museum Closed- Thanksgiving
END:VEVENT
END:VCALENDAR
