BEGIN:VCALENDAR
VERSION:2.0
PRODID:-//wowchildrensmuseum.org//NONSGML kigkonsult.se iCalcreator 2.30.10
 //
CALSCALE:GREGORIAN
METHOD:PUBLISH
UID:dae6a991-6cec-49cb-9e59-66b69bf6d05a
X-WR-CALDESC:In honor of Lafayette's Fall Harvest Festival happening outsid
 e the Museum today\, WOW! will offering 'Pay What You Can' pricing all day
 . With special thanks to our sponsor Meow Wolf.
X-WR-RELCALID:0eb8f029b2187d6f71170c059ba7354d
X-WR-TIMEZONE:America/Denver
BEGIN:VTIMEZONE
TZID:America/Denver
BEGIN:STANDARD
TZNAME:MST
DTSTART:20221106T020000
TZOFFSETFROM:-0600
TZOFFSETTO:-0700
RDATE:20231105T020000
RDATE:20241103T020000
END:STANDARD
BEGIN:DAYLIGHT
TZNAME:MDT
DTSTART:20230312T020000
TZOFFSETFROM:-0700
TZOFFSETTO:-0600
RDATE:20240310T020000
RDATE:20250309T020000
END:DAYLIGHT
END:VTIMEZONE
BEGIN:VEVENT
UID:86963b74-1b22-4b38-bd67-4c5da6de7967
DTSTAMP:20260423T043018Z
DESCRIPTION:In honor of Lafayette's Fall Harvest Festival happening outside
  the Museum today\, WOW! will offering 'Pay What You Can' pricing all day.
  With special thanks to our sponsor Meow Wolf.
DTSTART;TZID=America/Denver:20231028T090000
DTEND;TZID=America/Denver:20231028T170000
LOCATION:
SUMMARY:Fall Fest- Pay What You Can Day
END:VEVENT
END:VCALENDAR
