BEGIN:VCALENDAR
VERSION:2.0
PRODID:-//wowchildrensmuseum.org//NONSGML kigkonsult.se iCalcreator 2.30.10
 //
CALSCALE:GREGORIAN
METHOD:PUBLISH
UID:7e3fcdf2-c213-4fda-80b0-8cd1f4b0a74b
X-WR-CALDESC:Come in costume to WOW!'s annual Halloween Party—this year is 
 STEM-themed with spooky science activities\, games\, and non-candy giveawa
 ys! Visit with slithery friends from My Nature Lab\, dissect and owl pelle
 t\, and more! \n\nTickets are $5 per adult\, $10 per non-member child\, an
 d $7 per member child.\n\nTickets are transferable\, but non-refundable.
X-WR-RELCALID:50fd19f6da78fc9f0b526edf1ccfa44c
X-WR-TIMEZONE:America/Denver
BEGIN:VTIMEZONE
TZID:America/Denver
BEGIN:STANDARD
TZNAME:MST
DTSTART:20221106T020000
TZOFFSETFROM:-0600
TZOFFSETTO:-0700
RDATE:20231105T020000
RDATE:20241103T020000
END:STANDARD
BEGIN:DAYLIGHT
TZNAME:MDT
DTSTART:20230312T020000
TZOFFSETFROM:-0700
TZOFFSETTO:-0600
RDATE:20240310T020000
RDATE:20250309T020000
END:DAYLIGHT
END:VTIMEZONE
BEGIN:VEVENT
UID:18c36e5b-a009-4d51-af1c-2bd2c630cd53
DTSTAMP:20260423T041355Z
DESCRIPTION:Come in costume to WOW!'s annual Halloween Party—this year is S
 TEM-themed with spooky science activities\, games\, and non-candy giveaway
 s! Visit with slithery friends from My Nature Lab\, dissect and owl pellet
 \, and more! \n\nTickets are $5 per adult\, $10 per non-member child\, and
  $7 per member child.\n\nTickets are transferable\, but non-refundable.
DTSTART;TZID=America/Denver:20231027T173000
DTEND;TZID=America/Denver:20231027T193000
LOCATION:
SUMMARY:Spooky Science Party! ($)
END:VEVENT
END:VCALENDAR
