BEGIN:VCALENDAR
VERSION:2.0
PRODID:-//wowchildrensmuseum.org//NONSGML kigkonsult.se iCalcreator 2.30.10
 //
CALSCALE:GREGORIAN
METHOD:PUBLISH
UID:c90e0e7a-8075-49a9-9caa-7fa18424465c
X-WR-CALDESC:Come to WOW! for a special theatrical performance of 'The City
  Dog & The Prairie Dog\,' presented by the award-winning Creede Reperatory
  Theatre. 'The City Dog and the Prairie Dog' is a bilingual musical for gr
 ades K-6\, exploring themes of community and belonging. Expect to dance\, 
 laugh\, and sing along\, with lots of audience participation! Children in 
 attendance will receive a free copy of 'The City Dog & The Prairie Dog' bo
 ok.\n\nThis performance is included with Museum Admission or Membership\, 
 but to guarantee copies of the book for every child\, please register in a
 dvance.
X-WR-RELCALID:be6ef81dc812a234b2bd1b537727254d
X-WR-TIMEZONE:America/Denver
BEGIN:VTIMEZONE
TZID:America/Denver
BEGIN:STANDARD
TZNAME:MST
DTSTART:20221106T020000
TZOFFSETFROM:-0600
TZOFFSETTO:-0700
RDATE:20231105T020000
RDATE:20241103T020000
END:STANDARD
BEGIN:DAYLIGHT
TZNAME:MDT
DTSTART:20230312T020000
TZOFFSETFROM:-0700
TZOFFSETTO:-0600
RDATE:20240310T020000
RDATE:20250309T020000
END:DAYLIGHT
END:VTIMEZONE
BEGIN:VEVENT
UID:7dff6ab3-377f-4b63-873a-6be19cc46ca1
DTSTAMP:20260423T042051Z
DESCRIPTION:Come to WOW! for a special theatrical performance of 'The City 
 Dog & The Prairie Dog\,' presented by the award-winning Creede Reperatory 
 Theatre. 'The City Dog and the Prairie Dog' is a bilingual musical for gra
 des K-6\, exploring themes of community and belonging. Expect to dance\, l
 augh\, and sing along\, with lots of audience participation! Children in a
 ttendance will receive a free copy of 'The City Dog & The Prairie Dog' boo
 k.\n\nThis performance is included with Museum Admission or Membership\, b
 ut to guarantee copies of the book for every child\, please register in ad
 vance.
DTSTART;TZID=America/Denver:20231012T153000
DTEND;TZID=America/Denver:20231012T163000
LOCATION:
SUMMARY:'The City Dog & The Prairie Dog' Theatrical Performance
END:VEVENT
END:VCALENDAR
