BEGIN:VCALENDAR
VERSION:2.0
PRODID:-//wowchildrensmuseum.org//NONSGML kigkonsult.se iCalcreator 2.30.10
 //
CALSCALE:GREGORIAN
METHOD:PUBLISH
UID:26c989a1-72c3-4924-9a15-8b0bbefee025
X-WR-CALDESC:A family favorite is back again to celebrate the diverse famil
 ies of our WOW! community. With resources and information for queer famili
 es and allies\, fun activities for kids (and kids at heart)\, and a story 
 hour with Ms. Shirley\, Family Pride Night is one of celebration and unity
  at the Museum.
X-WR-RELCALID:7544f726dc0311ce6fb0511e8b0d90f4
X-WR-TIMEZONE:America/Denver
BEGIN:VTIMEZONE
TZID:America/Denver
BEGIN:STANDARD
TZNAME:MST
DTSTART:20221106T020000
TZOFFSETFROM:-0600
TZOFFSETTO:-0700
RDATE:20231105T020000
RDATE:20241103T020000
END:STANDARD
BEGIN:DAYLIGHT
TZNAME:MDT
DTSTART:20230312T020000
TZOFFSETFROM:-0700
TZOFFSETTO:-0600
RDATE:20240310T020000
RDATE:20250309T020000
END:DAYLIGHT
END:VTIMEZONE
BEGIN:VEVENT
UID:649eac18-c63d-4264-ad55-4fbb77bacf94
DTSTAMP:20260423T055511Z
DESCRIPTION:A family favorite is back again to celebrate the diverse famili
 es of our WOW! community. With resources and information for queer familie
 s and allies\, fun activities for kids (and kids at heart)\, and a story h
 our with Ms. Shirley\, Family Pride Night is one of celebration and unity 
 at the Museum.
DTSTART;TZID=America/Denver:20230929T173000
DTEND;TZID=America/Denver:20230929T193000
LOCATION:110 N. Harrison Ave\, Lafayette\, CO 80026 US
SUMMARY:Family Pride Night ($)
END:VEVENT
END:VCALENDAR
