BEGIN:VCALENDAR
VERSION:2.0
PRODID:-//wowchildrensmuseum.org//NONSGML kigkonsult.se iCalcreator 2.30.10
 //
CALSCALE:GREGORIAN
METHOD:PUBLISH
UID:0023e29d-2d34-442b-9b84-3d9815252f58
X-WR-CALDESC:The Museum will be closing early today at 3:30 in preperation 
 for WOW! on Tap\, our annual fundraising event.
X-WR-RELCALID:d1aeadbe7c1396e7285d19e1bf6a02b8
X-WR-TIMEZONE:America/Denver
BEGIN:VTIMEZONE
TZID:America/Denver
BEGIN:STANDARD
TZNAME:MST
DTSTART:20221106T020000
TZOFFSETFROM:-0600
TZOFFSETTO:-0700
RDATE:20231105T020000
RDATE:20241103T020000
END:STANDARD
BEGIN:DAYLIGHT
TZNAME:MDT
DTSTART:20230312T020000
TZOFFSETFROM:-0700
TZOFFSETTO:-0600
RDATE:20240310T020000
RDATE:20250309T020000
END:DAYLIGHT
END:VTIMEZONE
BEGIN:VEVENT
UID:7adc1ff8-436a-405f-8022-29cc77754488
DTSTAMP:20260423T055311Z
DESCRIPTION:The Museum will be closing early today at 3:30 in preperation f
 or WOW! on Tap\, our annual fundraising event.
DTSTART;TZID=America/Denver:20230915T000000
DTEND;TZID=America/Denver:20230915T235900
LOCATION:
SUMMARY:CLOSING AT 3:30
END:VEVENT
END:VCALENDAR
