BEGIN:VCALENDAR
VERSION:2.0
PRODID:-//wowchildrensmuseum.org//NONSGML kigkonsult.se iCalcreator 2.30.10
 //
CALSCALE:GREGORIAN
METHOD:PUBLISH
UID:9ebded2b-0d05-47c4-96a1-c4151f7322f4
X-WR-CALDESC:Visit with our friends from the Lafayette History Museum to ex
 plore objects from Lafayette's past! \n\nIncluded with Museum Admission or
  Membership.
X-WR-RELCALID:d1d0006a7d81f051f78406c7d25e13c2
X-WR-TIMEZONE:America/Denver
BEGIN:VTIMEZONE
TZID:America/Denver
BEGIN:STANDARD
TZNAME:MST
DTSTART:20221106T020000
TZOFFSETFROM:-0600
TZOFFSETTO:-0700
RDATE:20231105T020000
RDATE:20241103T020000
END:STANDARD
BEGIN:DAYLIGHT
TZNAME:MDT
DTSTART:20230312T020000
TZOFFSETFROM:-0700
TZOFFSETTO:-0600
RDATE:20240310T020000
END:DAYLIGHT
END:VTIMEZONE
BEGIN:VEVENT
UID:6c26c828-1fc7-47cc-9ca4-143f7fde55d4
DTSTAMP:20260423T092601Z
DESCRIPTION:Visit with our friends from the Lafayette History Museum to exp
 lore objects from Lafayette's past! \n\nIncluded with Museum Admission or 
 Membership.
DTSTART;TZID=America/Denver:20230712T153000
DTEND;TZID=America/Denver:20230712T163000
LOCATION:
SUMMARY:'Way Back Whensday' with Lafayette History Museum
END:VEVENT
END:VCALENDAR
