BEGIN:VCALENDAR
VERSION:2.0
PRODID:-//wowchildrensmuseum.org//NONSGML kigkonsult.se iCalcreator 2.30.10
 //
CALSCALE:GREGORIAN
METHOD:PUBLISH
UID:e3e83a95-e21e-4751-84e6-bc4f8daec09c
X-WR-CALDESC:Our Family FUNdraiser is back again! Proceeds directly benefit
  our Play For All Initiative. \nTry your luck at our silent auction\, oppo
 rtunity auction\, and free games to receive prizes. \nThere will be hot do
 gs (and veggie dogs\, too!)\, a popcorn bar with all your favorite topping
 s\, fresh spun cotton candy\, a pie-throw and so much more. \nWe can't wai
 t to see you there!
X-WR-RELCALID:cbb4380427f3c8fcab9d091b233e63a1
X-WR-TIMEZONE:America/Denver
BEGIN:VTIMEZONE
TZID:America/Denver
BEGIN:STANDARD
TZNAME:MST
DTSTART:20221106T020000
TZOFFSETFROM:-0600
TZOFFSETTO:-0700
RDATE:20231105T020000
RDATE:20241103T020000
END:STANDARD
BEGIN:DAYLIGHT
TZNAME:MDT
DTSTART:20230312T020000
TZOFFSETFROM:-0700
TZOFFSETTO:-0600
RDATE:20240310T020000
END:DAYLIGHT
END:VTIMEZONE
BEGIN:VEVENT
UID:561d7317-67d8-41fa-9632-fd2b8612cf16
DTSTAMP:20260423T111451Z
DESCRIPTION:Our Family FUNdraiser is back again! Proceeds directly benefit 
 our Play For All Initiative. \nTry your luck at our silent auction\, oppor
 tunity auction\, and free games to receive prizes. \nThere will be hot dog
 s (and veggie dogs\, too!)\, a popcorn bar with all your favorite toppings
 \, fresh spun cotton candy\, a pie-throw and so much more. \nWe can't wait
  to see you there!
DTSTART;TZID=America/Denver:20230616T173000
DTEND;TZID=America/Denver:20230616T193000
LOCATION:
SUMMARY:Summer Carnival: Family FUNdraiser 2023 ($)
END:VEVENT
END:VCALENDAR
