BEGIN:VCALENDAR
VERSION:2.0
PRODID:-//wowchildrensmuseum.org//NONSGML kigkonsult.se iCalcreator 2.30.10
 //
CALSCALE:GREGORIAN
METHOD:PUBLISH
UID:418def9b-ca23-4589-bdad-00ff0a782d86
X-WR-CALDESC:Due to our Family FUNdraiser Summer Carnival\, WOW! will be cl
 osing early at 4:00pm today.
X-WR-RELCALID:1852d5a7048565d8e77fc6f8b8e4f0fa
X-WR-TIMEZONE:America/Denver
BEGIN:VTIMEZONE
TZID:America/Denver
BEGIN:STANDARD
TZNAME:MST
DTSTART:20221106T020000
TZOFFSETFROM:-0600
TZOFFSETTO:-0700
RDATE:20231105T020000
RDATE:20241103T020000
END:STANDARD
BEGIN:DAYLIGHT
TZNAME:MDT
DTSTART:20230312T020000
TZOFFSETFROM:-0700
TZOFFSETTO:-0600
RDATE:20240310T020000
END:DAYLIGHT
END:VTIMEZONE
BEGIN:VEVENT
UID:b53bd233-79fc-4908-8efc-7133a99210d5
DTSTAMP:20260423T105035Z
DESCRIPTION:Due to our Family FUNdraiser Summer Carnival\, WOW! will be clo
 sing early at 4:00pm today.
DTSTART;TZID=America/Denver:20230616T000000
DTEND;TZID=America/Denver:20230616T235900
LOCATION:
SUMMARY:CLOSING AT 4:00pm
END:VEVENT
END:VCALENDAR
