BEGIN:VCALENDAR
VERSION:2.0
PRODID:-//wowchildrensmuseum.org//NONSGML kigkonsult.se iCalcreator 2.30.10
 //
CALSCALE:GREGORIAN
METHOD:PUBLISH
UID:cf1a6f1a-8553-4759-a7ad-667009a64f69
X-WR-CALDESC:Souns and Rhymes is a family literacy class. Children 0-3 use 
 multiples sense to experience letter sounds and nursery rhymes. This class
  is interactive\, engaging\, and hands-on\, blending Montessori-minded pra
 ctice with mainstream tradition. \n\nSouns and Rhymes is presented by Dell
 a Remack of SensAble Learning\, and is an additional fee. Class registrati
 on includes Museum Admission for one child and one adult. The series of 5 
 classes are $125 per non-member family or $100 per member family.\n\nClass
 es run Thursdays\, June 1st-29th\, from 10:00-10:30am.
X-WR-RELCALID:4ed934c88128d207ae8b12bc466960d5
X-WR-TIMEZONE:America/Denver
BEGIN:VTIMEZONE
TZID:America/Denver
BEGIN:STANDARD
TZNAME:MST
DTSTART:20221106T020000
TZOFFSETFROM:-0600
TZOFFSETTO:-0700
RDATE:20231105T020000
RDATE:20241103T020000
END:STANDARD
BEGIN:DAYLIGHT
TZNAME:MDT
DTSTART:20230312T020000
TZOFFSETFROM:-0700
TZOFFSETTO:-0600
RDATE:20240310T020000
END:DAYLIGHT
END:VTIMEZONE
BEGIN:VEVENT
UID:9975bfb6-9f28-474c-ac53-ccba6a64fcce
DTSTAMP:20260423T105702Z
DESCRIPTION:Souns and Rhymes is a family literacy class. Children 0-3 use m
 ultiples sense to experience letter sounds and nursery rhymes. This class 
 is interactive\, engaging\, and hands-on\, blending Montessori-minded prac
 tice with mainstream tradition. \n\nSouns and Rhymes is presented by Della
  Remack of SensAble Learning\, and is an additional fee. Class registratio
 n includes Museum Admission for one child and one adult. The series of 5 c
 lasses are $125 per non-member family or $100 per member family.\n\nClasse
 s run Thursdays\, June 1st-29th\, from 10:00-10:30am.
DTSTART;TZID=America/Denver:20230615T100000
DTEND;TZID=America/Denver:20230615T103000
LOCATION:
SUMMARY:Souns & Rhymes ($)
END:VEVENT
END:VCALENDAR
