BEGIN:VCALENDAR
VERSION:2.0
PRODID:-//wowchildrensmuseum.org//NONSGML kigkonsult.se iCalcreator 2.30.10
 //
CALSCALE:GREGORIAN
METHOD:PUBLISH
UID:3114e751-b82a-4dce-be37-8c61db056e68
X-WR-CALDESC:An hour for caregivers to socialize\, share and connect over c
 offee. Free with admission. Feel free to bring your own mug!
X-WR-RELCALID:24364af069d7ac9e82249bfe94b78344
X-WR-TIMEZONE:America/Denver
BEGIN:VTIMEZONE
TZID:America/Denver
BEGIN:STANDARD
TZNAME:MST
DTSTART:20221106T020000
TZOFFSETFROM:-0600
TZOFFSETTO:-0700
RDATE:20231105T020000
RDATE:20241103T020000
END:STANDARD
BEGIN:DAYLIGHT
TZNAME:MDT
DTSTART:20230312T020000
TZOFFSETFROM:-0700
TZOFFSETTO:-0600
RDATE:20240310T020000
END:DAYLIGHT
END:VTIMEZONE
BEGIN:VEVENT
UID:d4f15ea3-3ee7-4415-a34c-9660e9c1b99a
DTSTAMP:20260423T123140Z
DESCRIPTION:An hour for caregivers to socialize\, share and connect over co
 ffee. Free with admission. Feel free to bring your own mug!
DTSTART;TZID=America/Denver:20230523T093000
DTEND;TZID=America/Denver:20230523T103000
LOCATION:
SUMMARY:Coffee & Caregivers
END:VEVENT
END:VCALENDAR
