BEGIN:VCALENDAR
VERSION:2.0
PRODID:-//wowchildrensmuseum.org//NONSGML kigkonsult.se iCalcreator 2.30.10
 //
CALSCALE:GREGORIAN
METHOD:PUBLISH
UID:3e8f992b-d3c0-4098-8f94-2bc2e1de0824
X-WR-CALDESC:Come make a personalized bath bomb craft for mom\, grandma\, o
 r even yourself! \n\nIncluded with Museum Admission or Membership.
X-WR-RELCALID:57d369daa50b136882946f3420c600ac
X-WR-TIMEZONE:America/Denver
BEGIN:VTIMEZONE
TZID:America/Denver
BEGIN:STANDARD
TZNAME:MST
DTSTART:20221106T020000
TZOFFSETFROM:-0600
TZOFFSETTO:-0700
RDATE:20231105T020000
RDATE:20241103T020000
END:STANDARD
BEGIN:DAYLIGHT
TZNAME:MDT
DTSTART:20230312T020000
TZOFFSETFROM:-0700
TZOFFSETTO:-0600
RDATE:20240310T020000
END:DAYLIGHT
END:VTIMEZONE
BEGIN:VEVENT
UID:91189aea-5a71-43d8-9365-6fe6c191dd6f
DTSTAMP:20260423T123314Z
DESCRIPTION:Come make a personalized bath bomb craft for mom\, grandma\, or
  even yourself! \n\nIncluded with Museum Admission or Membership.
DTSTART;TZID=America/Denver:20230509T140000
DTEND;TZID=America/Denver:20230509T163000
LOCATION:
SUMMARY:Mother's Day Craft
END:VEVENT
END:VCALENDAR
