BEGIN:VCALENDAR
VERSION:2.0
PRODID:-//wowchildrensmuseum.org//NONSGML kigkonsult.se iCalcreator 2.30.10
 //
CALSCALE:GREGORIAN
METHOD:PUBLISH
UID:d2435ceb-4905-4f88-90fc-b55450aca45a
X-WR-CALDESC:To serve the preferences of all of our visitors\, masks will b
 e required of everyone ages 2+ all day Wednesdays. Masks are not required 
 the rest of the week.
X-WR-RELCALID:24d815a050f487b0ff29325af1331f86
X-WR-TIMEZONE:America/Denver
BEGIN:VTIMEZONE
TZID:America/Denver
BEGIN:STANDARD
TZNAME:MST
DTSTART:20221106T020000
TZOFFSETFROM:-0600
TZOFFSETTO:-0700
RDATE:20231105T020000
END:STANDARD
BEGIN:DAYLIGHT
TZNAME:MDT
DTSTART:20230312T020000
TZOFFSETFROM:-0700
TZOFFSETTO:-0600
RDATE:20240310T020000
END:DAYLIGHT
END:VTIMEZONE
BEGIN:VEVENT
UID:fe76ba0e-65f1-4d2a-a210-b39121c1ec95
DTSTAMP:20260423T141919Z
DESCRIPTION:To serve the preferences of all of our visitors\, masks will be
  required of everyone ages 2+ all day Wednesdays. Masks are not required t
 he rest of the week.
DTSTART;TZID=America/Denver:20230426T000000
DTEND;TZID=America/Denver:20230426T235900
LOCATION:
SUMMARY:Masks Required Day
END:VEVENT
END:VCALENDAR
