BEGIN:VCALENDAR
VERSION:2.0
PRODID:-//wowchildrensmuseum.org//NONSGML kigkonsult.se iCalcreator 2.30.10
 //
CALSCALE:GREGORIAN
METHOD:PUBLISH
UID:fdf2c2ae-7a47-4530-86ff-8f8ad69f5353
X-WR-CALDESC:To serve the preferences of all of our visitors\, masks will b
 e required of everyone ages 2+ all day Wednesdays. Masks are not required 
 the rest of the week.
X-WR-RELCALID:58f1f5630269cb8cb8dddb69c8bfff14
X-WR-TIMEZONE:America/Denver
BEGIN:VTIMEZONE
TZID:America/Denver
BEGIN:STANDARD
TZNAME:MST
DTSTART:20221106T020000
TZOFFSETFROM:-0600
TZOFFSETTO:-0700
RDATE:20231105T020000
END:STANDARD
BEGIN:DAYLIGHT
TZNAME:MDT
DTSTART:20230312T020000
TZOFFSETFROM:-0700
TZOFFSETTO:-0600
RDATE:20240310T020000
END:DAYLIGHT
END:VTIMEZONE
BEGIN:VEVENT
UID:3c3f0be7-e7d3-4d06-bedc-30ebd7d07a01
DTSTAMP:20260423T144430Z
DESCRIPTION:To serve the preferences of all of our visitors\, masks will be
  required of everyone ages 2+ all day Wednesdays. Masks are not required t
 he rest of the week.
DTSTART;TZID=America/Denver:20230412T000000
DTEND;TZID=America/Denver:20230412T235900
LOCATION:
SUMMARY:Masks Required Day
END:VEVENT
END:VCALENDAR
