BEGIN:VCALENDAR
VERSION:2.0
PRODID:-//wowchildrensmuseum.org//NONSGML kigkonsult.se iCalcreator 2.30.10
 //
CALSCALE:GREGORIAN
METHOD:PUBLISH
UID:64e73d31-fce9-4035-94d4-fa85250b3e66
X-WR-CALDESC:Leave your mark on WOW! Join Artist Adolfo Romero in making cl
 ay tiles in our Create Space anytime between 12:00-4:00pm. These tiles wil
 l be incorporated into a permanent sculpture installation that will be goi
 ng in to WOW!'s Community Art Garden in Summer 2023. \n\nIncluded with Mus
 eum Admission or Membership.
X-WR-RELCALID:dcd2b523760d73ea2ea2f2ee86e39236
X-WR-TIMEZONE:America/Denver
BEGIN:VTIMEZONE
TZID:America/Denver
BEGIN:STANDARD
TZNAME:MST
DTSTART:20221106T020000
TZOFFSETFROM:-0600
TZOFFSETTO:-0700
RDATE:20231105T020000
END:STANDARD
BEGIN:DAYLIGHT
TZNAME:MDT
DTSTART:20230312T020000
TZOFFSETFROM:-0700
TZOFFSETTO:-0600
RDATE:20240310T020000
END:DAYLIGHT
END:VTIMEZONE
BEGIN:VEVENT
UID:5c91e020-1e4a-496b-97a0-5cc9f6c8ab2c
DTSTAMP:20260423T142231Z
DESCRIPTION:Leave your mark on WOW! Join Artist Adolfo Romero in making cla
 y tiles in our Create Space anytime between 12:00-4:00pm. These tiles will
  be incorporated into a permanent sculpture installation that will be goin
 g in to WOW!'s Community Art Garden in Summer 2023. \n\nIncluded with Muse
 um Admission or Membership.
DTSTART;TZID=America/Denver:20230401T120000
DTEND;TZID=America/Denver:20230401T160000
LOCATION:
SUMMARY:Tile Making with Artist Adolfo Romero
END:VEVENT
END:VCALENDAR
