BEGIN:VCALENDAR
VERSION:2.0
PRODID:-//wowchildrensmuseum.org//NONSGML kigkonsult.se iCalcreator 2.30.10
 //
CALSCALE:GREGORIAN
METHOD:PUBLISH
UID:c1f20e14-65b0-4102-a435-97ca84d26b26
X-WR-CALDESC:Visit the museum's activity rooms to let your imagination run 
 wild while you build with cardboard boxes!\n\nIncluded with Museum Admissi
 on or Membership. \n
X-WR-RELCALID:b259e4161e25716eee2d519681d6dd16
X-WR-TIMEZONE:America/Denver
BEGIN:VTIMEZONE
TZID:America/Denver
BEGIN:STANDARD
TZNAME:MST
DTSTART:20221106T020000
TZOFFSETFROM:-0600
TZOFFSETTO:-0700
RDATE:20231105T020000
END:STANDARD
BEGIN:DAYLIGHT
TZNAME:MDT
DTSTART:20230312T020000
TZOFFSETFROM:-0700
TZOFFSETTO:-0600
RDATE:20240310T020000
END:DAYLIGHT
END:VTIMEZONE
BEGIN:VEVENT
UID:c68e50b3-5bea-403e-bb41-7163912550a4
DTSTAMP:20260423T155221Z
DESCRIPTION:Visit the museum's activity rooms to let your imagination run w
 ild while you build with cardboard boxes!\n\nIncluded with Museum Admissio
 n or Membership. \n
DTSTART;TZID=America/Denver:20230331T100000
DTEND;TZID=America/Denver:20230331T160000
LOCATION:
SUMMARY:Cardboard Creations
END:VEVENT
END:VCALENDAR
