BEGIN:VCALENDAR
VERSION:2.0
PRODID:-//wowchildrensmuseum.org//NONSGML kigkonsult.se iCalcreator 2.30.10
 //
CALSCALE:GREGORIAN
METHOD:PUBLISH
UID:4e3ec7a0-c64f-4aba-a1bc-d5fbcfdbcd6e
X-WR-CALDESC:Drop in anytime this hour to create your own flyer for the Win
 d Room exhibit and beyond!\n\nIncluded with Museum Admission or Membership
 .
X-WR-RELCALID:d7f71fa9e3ac5ebb70f1310baf23e31b
X-WR-TIMEZONE:America/Denver
BEGIN:VTIMEZONE
TZID:America/Denver
BEGIN:STANDARD
TZNAME:MST
DTSTART:20221106T020000
TZOFFSETFROM:-0600
TZOFFSETTO:-0700
RDATE:20231105T020000
END:STANDARD
BEGIN:DAYLIGHT
TZNAME:MDT
DTSTART:20230312T020000
TZOFFSETFROM:-0700
TZOFFSETTO:-0600
RDATE:20240310T020000
END:DAYLIGHT
END:VTIMEZONE
BEGIN:VEVENT
UID:55e7f577-bfe9-4728-9412-fa9fbfd67044
DTSTAMP:20260423T155042Z
DESCRIPTION:Drop in anytime this hour to create your own flyer for the Wind
  Room exhibit and beyond!\n\nIncluded with Museum Admission or Membership.
DTSTART;TZID=America/Denver:20230330T100000
DTEND;TZID=America/Denver:20230330T110000
LOCATION:
SUMMARY:Make a Wind Flyer
END:VEVENT
END:VCALENDAR
