BEGIN:VCALENDAR
VERSION:2.0
PRODID:-//wowchildrensmuseum.org//NONSGML kigkonsult.se iCalcreator 2.30.10
 //
CALSCALE:GREGORIAN
METHOD:PUBLISH
UID:306884ce-05f1-4075-b5c9-2ccb1ac0f89b
X-WR-CALDESC:Watercolor painting with salt in the activity rooms!\n\nInclud
 ed with Museum Admission or Membership.
X-WR-RELCALID:583e630cf74cec8489da66f6d74dd10d
X-WR-TIMEZONE:America/Denver
BEGIN:VTIMEZONE
TZID:America/Denver
BEGIN:STANDARD
TZNAME:MST
DTSTART:20221106T020000
TZOFFSETFROM:-0600
TZOFFSETTO:-0700
RDATE:20231105T020000
END:STANDARD
BEGIN:DAYLIGHT
TZNAME:MDT
DTSTART:20230312T020000
TZOFFSETFROM:-0700
TZOFFSETTO:-0600
RDATE:20240310T020000
END:DAYLIGHT
END:VTIMEZONE
BEGIN:VEVENT
UID:1125564d-0147-42a3-a7d7-4b84202996ce
DTSTAMP:20260423T155546Z
DESCRIPTION:Watercolor painting with salt in the activity rooms!\n\nInclude
 d with Museum Admission or Membership.
DTSTART;TZID=America/Denver:20230327T100000
DTEND;TZID=America/Denver:20230327T110000
LOCATION:
SUMMARY:Watercolor Painting
END:VEVENT
END:VCALENDAR
