BEGIN:VCALENDAR
VERSION:2.0
PRODID:-//wowchildrensmuseum.org//NONSGML kigkonsult.se iCalcreator 2.30.10
 //
CALSCALE:GREGORIAN
METHOD:PUBLISH
UID:82e83192-71d2-435f-8f68-2ead64485bfd
X-WR-CALDESC:To serve the preferences of all of our visitors\, masks will b
 e required of everyone ages 2+ all day Wednesdays. Masks are not required 
 the rest of the week.
X-WR-RELCALID:0dd50b5aeab86c7f18ad976ae323558f
X-WR-TIMEZONE:America/Denver
BEGIN:VTIMEZONE
TZID:America/Denver
BEGIN:STANDARD
TZNAME:MST
DTSTART:20221106T020000
TZOFFSETFROM:-0600
TZOFFSETTO:-0700
RDATE:20231105T020000
END:STANDARD
BEGIN:DAYLIGHT
TZNAME:MDT
DTSTART:20230312T020000
TZOFFSETFROM:-0700
TZOFFSETTO:-0600
RDATE:20240310T020000
END:DAYLIGHT
END:VTIMEZONE
BEGIN:VEVENT
UID:8f9594fe-1d32-42b7-961d-6dd20ad1a2fb
DTSTAMP:20260423T155546Z
DESCRIPTION:To serve the preferences of all of our visitors\, masks will be
  required of everyone ages 2+ all day Wednesdays. Masks are not required t
 he rest of the week.
DTSTART;TZID=America/Denver:20230322T000000
DTEND;TZID=America/Denver:20230322T235900
LOCATION:
SUMMARY:Masks Required Day
END:VEVENT
END:VCALENDAR
