BEGIN:VCALENDAR
VERSION:2.0
PRODID:-//wowchildrensmuseum.org//NONSGML kigkonsult.se iCalcreator 2.30.10
 //
CALSCALE:GREGORIAN
METHOD:PUBLISH
UID:f4ec10eb-bb71-422f-806f-ccf4e7817631
X-WR-CALDESC:Celebrate St. Patrick's Day at WOW! with a special performance
  by the McTeggart Irish Dancers!\n\n\nIncluded with Museum Admission or Me
 mbership.
X-WR-RELCALID:a9d349be75af09712b2eceac49df58b5
X-WR-TIMEZONE:America/Denver
BEGIN:VTIMEZONE
TZID:America/Denver
BEGIN:STANDARD
TZNAME:MST
DTSTART:20221106T020000
TZOFFSETFROM:-0600
TZOFFSETTO:-0700
RDATE:20231105T020000
END:STANDARD
BEGIN:DAYLIGHT
TZNAME:MDT
DTSTART:20230312T020000
TZOFFSETFROM:-0700
TZOFFSETTO:-0600
RDATE:20240310T020000
END:DAYLIGHT
END:VTIMEZONE
BEGIN:VEVENT
UID:8964c919-6d34-4e22-bf40-616ed364242f
DTSTAMP:20260423T155207Z
DESCRIPTION:Celebrate St. Patrick's Day at WOW! with a special performance 
 by the McTeggart Irish Dancers!\n\n\nIncluded with Museum Admission or Mem
 bership.
DTSTART;TZID=America/Denver:20230318T110000
DTEND;TZID=America/Denver:20230318T113000
LOCATION:
SUMMARY:Irish Dance Performance
END:VEVENT
END:VCALENDAR
