BEGIN:VCALENDAR
VERSION:2.0
PRODID:-//wowchildrensmuseum.org//NONSGML kigkonsult.se iCalcreator 2.30.10
 //
CALSCALE:GREGORIAN
METHOD:PUBLISH
UID:1667e362-d5cc-4eea-8101-2d00f4122063
X-WR-CALDESC:To serve the preferences of all of our visitors\, masks will b
 e required of everyone ages 2+ all day Wednesdays. Masks are not required 
 the rest of the week.
X-WR-RELCALID:98af675f8ff6b0741ad4603f9af3aec4
X-WR-TIMEZONE:America/Denver
BEGIN:VTIMEZONE
TZID:America/Denver
BEGIN:STANDARD
TZNAME:MST
DTSTART:20221106T020000
TZOFFSETFROM:-0600
TZOFFSETTO:-0700
RDATE:20231105T020000
END:STANDARD
BEGIN:DAYLIGHT
TZNAME:MDT
DTSTART:20230312T020000
TZOFFSETFROM:-0700
TZOFFSETTO:-0600
RDATE:20240310T020000
END:DAYLIGHT
END:VTIMEZONE
BEGIN:VEVENT
UID:ac9fb1eb-7b15-4c8c-b5a4-ef1fae2d4c0e
DTSTAMP:20260423T155649Z
DESCRIPTION:To serve the preferences of all of our visitors\, masks will be
  required of everyone ages 2+ all day Wednesdays. Masks are not required t
 he rest of the week.
DTSTART;TZID=America/Denver:20230315T000000
DTEND;TZID=America/Denver:20230315T235900
LOCATION:
SUMMARY:Masks Required Day
END:VEVENT
END:VCALENDAR
