BEGIN:VCALENDAR
VERSION:2.0
PRODID:-//wowchildrensmuseum.org//NONSGML kigkonsult.se iCalcreator 2.30.10
 //
CALSCALE:GREGORIAN
METHOD:PUBLISH
UID:5f607b7c-c25c-48e6-9253-4fdf314a81ea
X-WR-CALDESC:To serve the preferences of all of our visitors\, masks will b
 e required of everyone ages 2+ all day Wednesdays. Masks are not required 
 the rest of the week.
X-WR-RELCALID:a078ebc4b861ac5904c89cedaa004bce
X-WR-TIMEZONE:America/Denver
BEGIN:VTIMEZONE
TZID:America/Denver
BEGIN:STANDARD
TZNAME:MST
DTSTART:20221106T020000
TZOFFSETFROM:-0600
TZOFFSETTO:-0700
RDATE:20231105T020000
END:STANDARD
BEGIN:DAYLIGHT
TZNAME:MDT
DTSTART:20220313T020000
TZOFFSETFROM:-0700
TZOFFSETTO:-0600
RDATE:20230312T020000
RDATE:20240310T020000
END:DAYLIGHT
END:VTIMEZONE
BEGIN:VEVENT
UID:3f86c36e-7a09-4807-893e-6a98008d251e
DTSTAMP:20260423T172919Z
DESCRIPTION:To serve the preferences of all of our visitors\, masks will be
  required of everyone ages 2+ all day Wednesdays. Masks are not required t
 he rest of the week.
DTSTART;TZID=America/Denver:20230208T000000
DTEND;TZID=America/Denver:20230208T235900
LOCATION:
SUMMARY:Masks Required Day
END:VEVENT
END:VCALENDAR
