BEGIN:VCALENDAR
VERSION:2.0
PRODID:-//wowchildrensmuseum.org//NONSGML kigkonsult.se iCalcreator 2.30.10
 //
CALSCALE:GREGORIAN
METHOD:PUBLISH
UID:2d96d72f-427f-4f40-87b5-a0af6bcdf66c
X-WR-CALDESC:Visit with our friends from the Lafayette History Museum to ex
 plore objects from Lafayette's past! \n\nIncluded with Museum Admission or
  Membership.
X-WR-RELCALID:85196677b97d18b5d5c991df11e1e607
X-WR-TIMEZONE:America/Denver
BEGIN:VTIMEZONE
TZID:America/Denver
BEGIN:STANDARD
TZNAME:MST
DTSTART:20231105T020000
TZOFFSETFROM:-0600
TZOFFSETTO:-0700
RDATE:20241103T020000
RDATE:20251102T020000
END:STANDARD
BEGIN:DAYLIGHT
TZNAME:MDT
DTSTART:20240310T020000
TZOFFSETFROM:-0700
TZOFFSETTO:-0600
RDATE:20250309T020000
END:DAYLIGHT
END:VTIMEZONE
BEGIN:VEVENT
UID:e8bd277e-afd4-42a1-8bca-db268d6d39d1
DTSTAMP:20260421T090208Z
DESCRIPTION:Visit with our friends from the Lafayette History Museum to exp
 lore objects from Lafayette's past! \n\nIncluded with Museum Admission or 
 Membership.
DTSTART;TZID=America/Denver:20240807T153000
DTEND;TZID=America/Denver:20240807T170000
LOCATION:
SUMMARY:'Way Back Whensday' with Lafayette History Museum
END:VEVENT
END:VCALENDAR
