BEGIN:VCALENDAR
VERSION:2.0
PRODID:-//wowchildrensmuseum.org//NONSGML kigkonsult.se iCalcreator 2.30.10
 //
CALSCALE:GREGORIAN
METHOD:PUBLISH
UID:263ec9b4-db8e-4541-83af-b1d3022b060a
X-WR-CALDESC:Join Megan Dare\, Certified Behavior Analyst\, to develop skil
 ls and knowledge in potty training your child.  Parents and caregivers wil
 l learn about how to identify when your child is ready for toilet training
 \, when and how to start\, what to do when training\, and more. \n\nThis c
 lass is VIRTUAL only and will be conducted via Zoom. A Zoom link will be e
 mailed out prior to the event. \n\n\n\nMegan Dare\, M.Ed.\, BCBA\, is the 
 owner of Guiding Growth Services.\n\n\nFee is $10 per family\, $8 per Memb
 er family. Tickets are transferable\, but not refundable.
X-WR-RELCALID:1d6e6ee52afd8bb39cf811c2786c6007
X-WR-TIMEZONE:America/Denver
BEGIN:VTIMEZONE
TZID:America/Denver
BEGIN:STANDARD
TZNAME:MST
DTSTART:20231105T020000
TZOFFSETFROM:-0600
TZOFFSETTO:-0700
RDATE:20241103T020000
END:STANDARD
BEGIN:DAYLIGHT
TZNAME:MDT
DTSTART:20240310T020000
TZOFFSETFROM:-0700
TZOFFSETTO:-0600
RDATE:20250309T020000
END:DAYLIGHT
END:VTIMEZONE
BEGIN:VEVENT
UID:bcd1efa1-beab-4743-ae49-962134dfcb70
DTSTAMP:20260420T011943Z
DESCRIPTION:Join Megan Dare\, Certified Behavior Analyst\, to develop skill
 s and knowledge in potty training your child.  Parents and caregivers will
  learn about how to identify when your child is ready for toilet training\
 , when and how to start\, what to do when training\, and more. \n\nThis cl
 ass is VIRTUAL only and will be conducted via Zoom. A Zoom link will be em
 ailed out prior to the event. \n\n\n\nMegan Dare\, M.Ed.\, BCBA\, is the o
 wner of Guiding Growth Services.\n\n\nFee is $10 per family\, $8 per Membe
 r family. Tickets are transferable\, but not refundable.
DTSTART;TZID=America/Denver:20240423T180000
DTEND;TZID=America/Denver:20240423T190000
LOCATION:
SUMMARY:Virtual Potty Training Class ($)
END:VEVENT
END:VCALENDAR
