BEGIN:VCALENDAR
VERSION:2.0
PRODID:-//wowchildrensmuseum.org//NONSGML kigkonsult.se iCalcreator 2.30.10
 //
CALSCALE:GREGORIAN
METHOD:PUBLISH
UID:bb8b4b10-5346-4a18-90f2-5aa52cf0c5b5
X-WR-CALDESC:Join dancers from Boulder Ballet for a special storytime of 'T
 he Wizard of Oz.'\n\nIncluded with Museum Admission or Membership.
X-WR-RELCALID:5efe71546fa065d91a67cbb68ad68012
X-WR-TIMEZONE:America/Denver
BEGIN:VTIMEZONE
TZID:America/Denver
BEGIN:STANDARD
TZNAME:MST
DTSTART:20231105T020000
TZOFFSETFROM:-0600
TZOFFSETTO:-0700
RDATE:20241103T020000
END:STANDARD
BEGIN:DAYLIGHT
TZNAME:MDT
DTSTART:20230312T020000
TZOFFSETFROM:-0700
TZOFFSETTO:-0600
RDATE:20240310T020000
RDATE:20250309T020000
END:DAYLIGHT
END:VTIMEZONE
BEGIN:VEVENT
UID:daf261fe-ab35-4b78-a414-fe4e0f387443
DTSTAMP:20260422T100229Z
DESCRIPTION:Join dancers from Boulder Ballet for a special storytime of 'Th
 e Wizard of Oz.'\n\nIncluded with Museum Admission or Membership.
DTSTART;TZID=America/Denver:20240302T160000
DTEND;TZID=America/Denver:20240302T163000
LOCATION:
SUMMARY:Ballet Storytime w/ Boulder Ballet
END:VEVENT
END:VCALENDAR
