BEGIN:VCALENDAR
VERSION:2.0
PRODID:-//wowchildrensmuseum.org//NONSGML kigkonsult.se iCalcreator 2.30.10
 //
CALSCALE:GREGORIAN
METHOD:PUBLISH
UID:4f7aacdd-c54c-470d-a3b0-0f5eddfd5cd0
X-WR-CALDESC:School is out and WOW! in open! Come in and play! We are open 
 9:00am-5:00pm today.
X-WR-RELCALID:2a2e5e883aef910733418b5083cb3802
X-WR-TIMEZONE:America/Denver
BEGIN:VTIMEZONE
TZID:America/Denver
BEGIN:STANDARD
TZNAME:MST
DTSTART:20231105T020000
TZOFFSETFROM:-0600
TZOFFSETTO:-0700
RDATE:20241103T020000
END:STANDARD
BEGIN:DAYLIGHT
TZNAME:MDT
DTSTART:20230312T020000
TZOFFSETFROM:-0700
TZOFFSETTO:-0600
RDATE:20240310T020000
RDATE:20250309T020000
END:DAYLIGHT
END:VTIMEZONE
BEGIN:VEVENT
UID:215ef311-f03b-47b2-bf5a-370173e0cdd3
DTSTAMP:20260422T080824Z
DESCRIPTION:School is out and WOW! in open! Come in and play! We are open 9
 :00am-5:00pm today.
DTSTART;TZID=America/Denver:20240219T040000
DTEND;TZID=America/Denver:20240219T040001
LOCATION:
SUMMARY:MUSEUM OPEN- President's Day
END:VEVENT
END:VCALENDAR
