BEGIN:VCALENDAR
VERSION:2.0
PRODID:-//wowchildrensmuseum.org//NONSGML kigkonsult.se iCalcreator 2.30.10
 //
CALSCALE:GREGORIAN
METHOD:PUBLISH
UID:172f1b74-987a-4a2e-a885-1b24278d7ed7
X-WR-CALDESC:WOW! will be closing early today at 4:30pm due to a special ev
 ent. Thank you for understanding!
X-WR-RELCALID:c6c165e7b3636f8e624960b6d3307748
X-WR-TIMEZONE:America/Denver
BEGIN:VTIMEZONE
TZID:America/Denver
BEGIN:STANDARD
TZNAME:MST
DTSTART:20231105T020000
TZOFFSETFROM:-0600
TZOFFSETTO:-0700
RDATE:20241103T020000
END:STANDARD
BEGIN:DAYLIGHT
TZNAME:MDT
DTSTART:20230312T020000
TZOFFSETFROM:-0700
TZOFFSETTO:-0600
RDATE:20240310T020000
RDATE:20250309T020000
END:DAYLIGHT
END:VTIMEZONE
BEGIN:VEVENT
UID:37e5f8aa-e084-4090-8454-43026de4879e
DTSTAMP:20260423T091109Z
DESCRIPTION:WOW! will be closing early today at 4:30pm due to a special eve
 nt. Thank you for understanding!
DTSTART;TZID=America/Denver:20240210T163000
DTEND;TZID=America/Denver:20240210T163000
LOCATION:
SUMMARY:Closing Early at 4:30
END:VEVENT
END:VCALENDAR
