BEGIN:VCALENDAR
VERSION:2.0
PRODID:-//wowchildrensmuseum.org//NONSGML kigkonsult.se iCalcreator 2.30.10
 //
CALSCALE:GREGORIAN
METHOD:PUBLISH
UID:fbbb91fb-0c40-47ea-be5c-d2b375b4c12e
X-WR-CALDESC:Calling all explorers! Warm up with some cool science at WOW! 
 this Winter Break with our Winter Enrichment Program.\n \nExplore the wond
 ers of Earth and Space in this 4-day long\, drop-off program. Participants
  will enjoy daily hands-on STEAM experiments\, arts and crafts projects\, 
 and more. \n \nRegistration is open to students Kindergarten through 3rd g
 rade. Class runs from 9:00am-12:00pm\, Tuesday 1/2/24 to Friday 1/5/24. Co
 st is $170/non-members and $140/members.
X-WR-RELCALID:70e353cf64aa2a4e1bb10789cafb12f5
X-WR-TIMEZONE:America/Denver
BEGIN:VTIMEZONE
TZID:America/Denver
BEGIN:STANDARD
TZNAME:MST
DTSTART:20231105T020000
TZOFFSETFROM:-0600
TZOFFSETTO:-0700
RDATE:20241103T020000
END:STANDARD
BEGIN:DAYLIGHT
TZNAME:MDT
DTSTART:20230312T020000
TZOFFSETFROM:-0700
TZOFFSETTO:-0600
RDATE:20240310T020000
RDATE:20250309T020000
END:DAYLIGHT
END:VTIMEZONE
BEGIN:VEVENT
UID:59df29ba-e11b-4a74-a59f-053c30057fab
DTSTAMP:20260421T191207Z
DESCRIPTION:Calling all explorers! Warm up with some cool science at WOW! t
 his Winter Break with our Winter Enrichment Program.\n \nExplore the wonde
 rs of Earth and Space in this 4-day long\, drop-off program. Participants 
 will enjoy daily hands-on STEAM experiments\, arts and crafts projects\, a
 nd more. \n \nRegistration is open to students Kindergarten through 3rd gr
 ade. Class runs from 9:00am-12:00pm\, Tuesday 1/2/24 to Friday 1/5/24. Cos
 t is $170/non-members and $140/members.
DTSTART;TZID=America/Denver:20240104T090000
DTEND;TZID=America/Denver:20240104T120000
LOCATION:
SUMMARY:WOW! Explorers: Earth & Space ($)
END:VEVENT
END:VCALENDAR
