BEGIN:VCALENDAR
VERSION:2.0
PRODID:-//wowchildrensmuseum.org//NONSGML kigkonsult.se iCalcreator 2.30.10
 //
CALSCALE:GREGORIAN
METHOD:PUBLISH
UID:4023e33d-eeba-427d-a66a-821a6c7e33fd
X-WR-CALDESC:Join us for a special Sensory Friendly Playtime with a visit f
 rom a sensory-friendly Santa. Your children will have the opportunity to v
 isit and take pictures with Santa if they wish.\n\nSunday\, December 17\, 
 from 10am - 12pm.\n\nAdmission is $1 for participants thanks to WOW!'s don
 or-supported Play for All Initiative.
X-WR-RELCALID:8cff637cb8d8f4b8fda1bee3fd57f33e
X-WR-TIMEZONE:America/Denver
BEGIN:VTIMEZONE
TZID:America/Denver
BEGIN:STANDARD
TZNAME:MST
DTSTART:20231105T020000
TZOFFSETFROM:-0600
TZOFFSETTO:-0700
RDATE:20241103T020000
END:STANDARD
BEGIN:DAYLIGHT
TZNAME:MDT
DTSTART:20230312T020000
TZOFFSETFROM:-0700
TZOFFSETTO:-0600
RDATE:20240310T020000
RDATE:20250309T020000
END:DAYLIGHT
END:VTIMEZONE
BEGIN:VEVENT
UID:9baaf5d2-676d-477a-8d2c-111c05d143c3
DTSTAMP:20260421T154546Z
DESCRIPTION:Join us for a special Sensory Friendly Playtime with a visit fr
 om a sensory-friendly Santa. Your children will have the opportunity to vi
 sit and take pictures with Santa if they wish.\n\nSunday\, December 17\, f
 rom 10am - 12pm.\n\nAdmission is $1 for participants thanks to WOW!'s dono
 r-supported Play for All Initiative.
DTSTART;TZID=America/Denver:20231217T100000
DTEND;TZID=America/Denver:20231217T120000
LOCATION:
SUMMARY:Sensory Friendly Playtime
END:VEVENT
END:VCALENDAR
