BEGIN:VCALENDAR
VERSION:2.0
PRODID:-//wowchildrensmuseum.org//NONSGML kigkonsult.se iCalcreator 2.30.10
 //
CALSCALE:GREGORIAN
METHOD:PUBLISH
UID:3ad2f41c-dc42-414e-9284-7cb99f1f4168
X-WR-CALDESC:Due to unforeseen roof repair\, WOW! will unfortunately be clo
 sed today. We apologize for the inconvenience! Keep checking our website a
 nd social media pages for updates.
X-WR-RELCALID:c56546f26e56c5ea5cbf10ee9bf60e0d
X-WR-TIMEZONE:America/Denver
BEGIN:VTIMEZONE
TZID:America/Denver
BEGIN:STANDARD
TZNAME:MST
DTSTART:20231105T020000
TZOFFSETFROM:-0600
TZOFFSETTO:-0700
RDATE:20241103T020000
END:STANDARD
BEGIN:DAYLIGHT
TZNAME:MDT
DTSTART:20230312T020000
TZOFFSETFROM:-0700
TZOFFSETTO:-0600
RDATE:20240310T020000
RDATE:20250309T020000
END:DAYLIGHT
END:VTIMEZONE
BEGIN:VEVENT
UID:11152432-125e-4829-8ae7-e4ae14e286fa
DTSTAMP:20260421T120350Z
DESCRIPTION:Due to unforeseen roof repair\, WOW! will unfortunately be clos
 ed today. We apologize for the inconvenience! Keep checking our website an
 d social media pages for updates.
DTSTART;TZID=America/Denver:20231206T040000
DTEND;TZID=America/Denver:20231206T040001
LOCATION:
SUMMARY:CLOSED TODAY
END:VEVENT
END:VCALENDAR
