BEGIN:VCALENDAR
VERSION:2.0
PRODID:-//wowchildrensmuseum.org//NONSGML kigkonsult.se iCalcreator 2.30.10
 //
CALSCALE:GREGORIAN
METHOD:PUBLISH
UID:d6210795-d2e6-42a1-8d02-33483c092734
X-WR-CALDESC:Due to unforeseen roof repair\, WOW! will unfortunately be clo
 sed today. We apologize for the inconvenience! Keep checking our website a
 nd social media pages for updates.
X-WR-RELCALID:519c7bacf1e756094d3918b45a051c04
X-WR-TIMEZONE:America/Denver
BEGIN:VTIMEZONE
TZID:America/Denver
BEGIN:STANDARD
TZNAME:MST
DTSTART:20231105T020000
TZOFFSETFROM:-0600
TZOFFSETTO:-0700
RDATE:20241103T020000
END:STANDARD
BEGIN:DAYLIGHT
TZNAME:MDT
DTSTART:20230312T020000
TZOFFSETFROM:-0700
TZOFFSETTO:-0600
RDATE:20240310T020000
RDATE:20250309T020000
END:DAYLIGHT
END:VTIMEZONE
BEGIN:VEVENT
UID:4d491c06-a1a5-4f62-9140-8ace5ec5f992
DTSTAMP:20260421T120434Z
DESCRIPTION:Due to unforeseen roof repair\, WOW! will unfortunately be clos
 ed today. We apologize for the inconvenience! Keep checking our website an
 d social media pages for updates.
DTSTART;TZID=America/Denver:20231205T040000
DTEND;TZID=America/Denver:20231205T040001
LOCATION:
SUMMARY:CLOSED TODAY
END:VEVENT
END:VCALENDAR
