BEGIN:VCALENDAR
VERSION:2.0
PRODID:-//wowchildrensmuseum.org//NONSGML kigkonsult.se iCalcreator 2.30.10
 //
CALSCALE:GREGORIAN
METHOD:PUBLISH
UID:86d5f57a-3b49-49e8-a328-bce67d6ba9c4
X-WR-CALDESC:Due to unforeseen roof repair\, WOW! will unfortunately be clo
 sed today. We apologize for the inconvenience! Keep checking our website a
 nd social media pages for updates.
X-WR-RELCALID:cfc4d66462bdbfc8b3b11a087a54665d
X-WR-TIMEZONE:America/Denver
BEGIN:VTIMEZONE
TZID:America/Denver
BEGIN:STANDARD
TZNAME:MST
DTSTART:20231105T020000
TZOFFSETFROM:-0600
TZOFFSETTO:-0700
RDATE:20241103T020000
END:STANDARD
BEGIN:DAYLIGHT
TZNAME:MDT
DTSTART:20230312T020000
TZOFFSETFROM:-0700
TZOFFSETTO:-0600
RDATE:20240310T020000
RDATE:20250309T020000
END:DAYLIGHT
END:VTIMEZONE
BEGIN:VEVENT
UID:98704510-9bfa-4f47-a436-07af3557d39a
DTSTAMP:20260421T120457Z
DESCRIPTION:Due to unforeseen roof repair\, WOW! will unfortunately be clos
 ed today. We apologize for the inconvenience! Keep checking our website an
 d social media pages for updates.
DTSTART;TZID=America/Denver:20231204T040000
DTEND;TZID=America/Denver:20231204T040001
LOCATION:
SUMMARY:CLOSED TODAY
END:VEVENT
END:VCALENDAR
