BEGIN:VCALENDAR
VERSION:2.0
PRODID:-//wowchildrensmuseum.org//NONSGML kigkonsult.se iCalcreator 2.30.10
 //
CALSCALE:GREGORIAN
METHOD:PUBLISH
UID:2b34ce27-6eac-4925-99d2-067fa4d4420d
X-WR-CALDESC:The Museum is open for play today from 9:00am-5:00pm. In suppo
 rt of our community members who are immunocompromised or prefer wearing ma
 sks\, masks will be required for ages 3 and up. \n\nRegular admission rate
 s apply. No reservation necessary.
X-WR-RELCALID:bd235baa497c4b9808f423f6482b6d8d
X-WR-TIMEZONE:America/Denver
BEGIN:VTIMEZONE
TZID:America/Denver
BEGIN:STANDARD
TZNAME:MST
DTSTART:20221106T020000
TZOFFSETFROM:-0600
TZOFFSETTO:-0700
RDATE:20231105T020000
RDATE:20241103T020000
END:STANDARD
BEGIN:DAYLIGHT
TZNAME:MDT
DTSTART:20230312T020000
TZOFFSETFROM:-0700
TZOFFSETTO:-0600
RDATE:20240310T020000
RDATE:20250309T020000
END:DAYLIGHT
END:VTIMEZONE
BEGIN:VEVENT
UID:f3cf895b-4e90-4dc8-a5e9-72610add7724
DTSTAMP:20260421T085756Z
DESCRIPTION:The Museum is open for play today from 9:00am-5:00pm. In suppor
 t of our community members who are immunocompromised or prefer wearing mas
 ks\, masks will be required for ages 3 and up. \n\nRegular admission rates
  apply. No reservation necessary.
DTSTART;TZID=America/Denver:20231106T090000
DTEND;TZID=America/Denver:20231106T170000
LOCATION:
SUMMARY:MUSEUM OPEN- MASKED MONDAY
END:VEVENT
END:VCALENDAR
