BEGIN:VCALENDAR
VERSION:2.0
PRODID:-//wowchildrensmuseum.org//NONSGML kigkonsult.se iCalcreator 2.30.10
 //
CALSCALE:GREGORIAN
METHOD:PUBLISH
UID:fa469794-6072-4c29-b9d1-a678ba1f151d
X-WR-CALDESC:Join our Friends from the Boulder Opera for a reading of the M
 agic Flute by Mozart\, as well as a short performance \nfrom the Opera. Th
 is is the perfect introduction to Opera for young children!\n\nIncluded wi
 th Museum Admission or Membership.
X-WR-RELCALID:af4d707353a4a615caf7d58f137dd618
X-WR-TIMEZONE:America/Denver
BEGIN:VTIMEZONE
TZID:America/Denver
BEGIN:STANDARD
TZNAME:MST
DTSTART:20221106T020000
TZOFFSETFROM:-0600
TZOFFSETTO:-0700
RDATE:20231105T020000
RDATE:20241103T020000
END:STANDARD
BEGIN:DAYLIGHT
TZNAME:MDT
DTSTART:20230312T020000
TZOFFSETFROM:-0700
TZOFFSETTO:-0600
RDATE:20240310T020000
RDATE:20250309T020000
END:DAYLIGHT
END:VTIMEZONE
BEGIN:VEVENT
UID:8716efe2-243e-49de-acbe-542f3a3b849b
DTSTAMP:20260421T135440Z
DESCRIPTION:Join our Friends from the Boulder Opera for a reading of the Ma
 gic Flute by Mozart\, as well as a short performance \nfrom the Opera. Thi
 s is the perfect introduction to Opera for young children!\n\nIncluded wit
 h Museum Admission or Membership.
DTSTART;TZID=America/Denver:20231019T153000
DTEND;TZID=America/Denver:20231019T160000
LOCATION:
SUMMARY:Boulder Opera Storytime
END:VEVENT
END:VCALENDAR
