BEGIN:VCALENDAR
VERSION:2.0
PRODID:-//wowchildrensmuseum.org//NONSGML kigkonsult.se iCalcreator 2.30.10
 //
CALSCALE:GREGORIAN
METHOD:PUBLISH
UID:7fb9e21d-c2a4-4539-9c53-1a8bcec39faa
X-WR-CALDESC:To serve the preferences of all of our visitors\, masks will b
 e required of everyone ages 3+ between 9:00am-12:00pm Wednesdays. Masks ar
 e not required the rest of the week.
X-WR-RELCALID:f2713d3f579fd602ffb22f0f5736533b
X-WR-TIMEZONE:America/Denver
BEGIN:VTIMEZONE
TZID:America/Denver
BEGIN:STANDARD
TZNAME:MST
DTSTART:20221106T020000
TZOFFSETFROM:-0600
TZOFFSETTO:-0700
RDATE:20231105T020000
RDATE:20241103T020000
END:STANDARD
BEGIN:DAYLIGHT
TZNAME:MDT
DTSTART:20230312T020000
TZOFFSETFROM:-0700
TZOFFSETTO:-0600
RDATE:20240310T020000
RDATE:20250309T020000
END:DAYLIGHT
END:VTIMEZONE
BEGIN:VEVENT
UID:ecfc1030-8f7b-4ce5-90a9-bddbd2520bdf
DTSTAMP:20260421T174236Z
DESCRIPTION:To serve the preferences of all of our visitors\, masks will be
  required of everyone ages 3+ between 9:00am-12:00pm Wednesdays. Masks are
  not required the rest of the week.
DTSTART;TZID=America/Denver:20231004T090000
DTEND;TZID=America/Denver:20231004T120000
LOCATION:
SUMMARY:Masks Required Morning
END:VEVENT
END:VCALENDAR
