BEGIN:VCALENDAR
VERSION:2.0
PRODID:-//wowchildrensmuseum.org//NONSGML kigkonsult.se iCalcreator 2.30.10
 //
CALSCALE:GREGORIAN
METHOD:PUBLISH
UID:55b36d01-0f1f-4bde-a685-8856713cdd01
X-WR-CALDESC:Join the Boulder Ballet for a special storytime ballet present
 ation of 'Mary Poppins.'\n\nIncluded with Museum Admission or Membership.
X-WR-RELCALID:df33663d86cf2e58f29985efe8da2135
X-WR-TIMEZONE:America/Denver
BEGIN:VTIMEZONE
TZID:America/Denver
BEGIN:STANDARD
TZNAME:MST
DTSTART:20251102T020000
TZOFFSETFROM:-0600
TZOFFSETTO:-0700
RDATE:20261101T020000
END:STANDARD
BEGIN:DAYLIGHT
TZNAME:MDT
DTSTART:20260308T020000
TZOFFSETFROM:-0700
TZOFFSETTO:-0600
RDATE:20270314T020000
END:DAYLIGHT
END:VTIMEZONE
BEGIN:VEVENT
UID:44876321-04b9-403f-b144-dab7ad930812
DTSTAMP:20260419T165108Z
DESCRIPTION:Join the Boulder Ballet for a special storytime ballet presenta
 tion of 'Mary Poppins.'\n\nIncluded with Museum Admission or Membership.
DTSTART;TZID=America/Denver:20260410T100000
DTEND;TZID=America/Denver:20260410T103000
LOCATION:
SUMMARY:Boulder Ballet @ WOW!
END:VEVENT
END:VCALENDAR
