BEGIN:VCALENDAR
VERSION:2.0
PRODID:-//wowchildrensmuseum.org//NONSGML kigkonsult.se iCalcreator 2.30.10
 //
CALSCALE:GREGORIAN
METHOD:PUBLISH
UID:52dfd1cf-7983-4002-95a7-64895b727fde
X-WR-CALDESC:Come to WOW! after school and take part in extra awesome STEAM
  activities\, brought to you by WOW! team member\, Max! \n\nSTEAM to the M
 ax! is a new\, recurring program on Tuesday afternoons and is recommended 
 for grades K-3. This special preview is included with Museum Admission or 
 Membership.
X-WR-RELCALID:b555dfe45b6ec204bfa622770d3aaecc
X-WR-TIMEZONE:America/Denver
BEGIN:VTIMEZONE
TZID:America/Denver
BEGIN:STANDARD
TZNAME:MST
DTSTART:20241103T020000
TZOFFSETFROM:-0600
TZOFFSETTO:-0700
RDATE:20251102T020000
RDATE:20261101T020000
END:STANDARD
BEGIN:DAYLIGHT
TZNAME:MDT
DTSTART:20250309T020000
TZOFFSETFROM:-0700
TZOFFSETTO:-0600
RDATE:20260308T020000
END:DAYLIGHT
END:VTIMEZONE
BEGIN:VEVENT
UID:8dcd0cd6-898c-47c3-ab5f-d93043160e19
DTSTAMP:20260421T090353Z
DESCRIPTION:Come to WOW! after school and take part in extra awesome STEAM 
 activities\, brought to you by WOW! team member\, Max! \n\nSTEAM to the Ma
 x! is a new\, recurring program on Tuesday afternoons and is recommended f
 or grades K-3. This special preview is included with Museum Admission or M
 embership.
DTSTART;TZID=America/Denver:20250624T153000
DTEND;TZID=America/Denver:20250624T161500
LOCATION:
SUMMARY:STEAM to the Max!
END:VEVENT
END:VCALENDAR
