BEGIN:VCALENDAR
VERSION:2.0
PRODID:-//wowchildrensmuseum.org//NONSGML kigkonsult.se iCalcreator 2.30.10
 //
CALSCALE:GREGORIAN
METHOD:PUBLISH
UID:bbdd7540-223d-4bff-b360-1c1353c638b7
X-WR-CALDESC:Join us for a special storytime and mini-performance with the 
 Boulder Ballet\, as they prepare for their upcoming family-friendly show\,
  'The Queen of Hearts.'\n\nIncluded with Museum Admission or Membership.
X-WR-RELCALID:52c22bc3ed16467c95e7d661626c1ec6
X-WR-TIMEZONE:America/Denver
BEGIN:VTIMEZONE
TZID:America/Denver
BEGIN:STANDARD
TZNAME:MST
DTSTART:20241103T020000
TZOFFSETFROM:-0600
TZOFFSETTO:-0700
RDATE:20251102T020000
END:STANDARD
BEGIN:DAYLIGHT
TZNAME:MDT
DTSTART:20250309T020000
TZOFFSETFROM:-0700
TZOFFSETTO:-0600
RDATE:20260308T020000
END:DAYLIGHT
END:VTIMEZONE
BEGIN:VEVENT
UID:91044348-6043-4a7c-8242-4d0e5967fe67
DTSTAMP:20260422T171149Z
DESCRIPTION:Join us for a special storytime and mini-performance with the B
 oulder Ballet\, as they prepare for their upcoming family-friendly show\, 
 'The Queen of Hearts.'\n\nIncluded with Museum Admission or Membership.
DTSTART;TZID=America/Denver:20250403T160000
DTEND;TZID=America/Denver:20250403T163000
LOCATION:
SUMMARY:Ballet Storytime w/ Boulder Ballet
END:VEVENT
END:VCALENDAR
